    BEGIN:VCALENDAR
VERSION:2.0
PRODID:-//Ben Weiner - ECPv6.15.20//NONSGML v1.0//EN
CALSCALE:GREGORIAN
METHOD:PUBLISH
X-WR-CALNAME:Ben Weiner
X-ORIGINAL-URL:https://benweinerguitar.com
X-WR-CALDESC:Events for Ben Weiner
REFRESH-INTERVAL;VALUE=DURATION:PT1H
X-Robots-Tag:noindex
X-PUBLISHED-TTL:PT1H
BEGIN:VTIMEZONE
TZID:UTC
BEGIN:STANDARD
TZOFFSETFROM:+0000
TZOFFSETTO:+0000
TZNAME:UTC
DTSTART:20200101T000000
END:STANDARD
END:VTIMEZONE
BEGIN:VEVENT
DTSTART;TZID=UTC:20210131T110000
DTEND;TZID=UTC:20210131T140000
DTSTAMP:20260423T134935
CREATED:20210116T134349Z
LAST-MODIFIED:20210116T141600Z
UID:214-1612090800-1612101600@benweinerguitar.com
SUMMARY:Bird Key Yacht Club
DESCRIPTION:
URL:https://benweinerguitar.com/event/birdkeyyc-com/
LOCATION:Bird Key Yacht Club\, 301 Bird Key Drive\, Sarasota\, FL\, 34236\, United States
END:VEVENT
END:VCALENDAR